{"text_format":"1","workbook":"xlsx","n_sheets":6,"sheets":["Liste_list","Warteliste_waiting list","Nicht Teilgenommen_no show","Tabelle1","Hilfstabelle","Etiketten_labels"],"not_rendered":{"charts":0,"images":1,"macros":1,"external_links":0,"defined_names":20,"comments":1,"pivot_tables":0},"unopened":[],"bounds":{"document_bytes":16777216,"sheet_cells":100000,"rows_first":2000,"rows_last":500,"rows_between":2000,"halvings":0,"cell_chars":16384,"cell_head_chars":4096},"cells_cut":0,"cells_raw":0,"read":"whole","date_system":"1900"}

{"sheet":"Liste_list","index":0,"n_rows":105,"n_cols":17,"rows_kept":105,"cut":false,"hidden":false,"merged":[[13,0,14,0],[13,2,13,3],[13,9,14,9],[13,10,14,10],[7,5,7,6],[8,5,8,6],[9,5,9,6],[10,5,10,6],[13,1,14,1],[13,16,14,16],[3,3,3,6],[4,3,4,6],[5,3,5,6],[11,3,11,6],[13,11,13,15],[3,12,3,14],[13,4,13,8]]}
[null,null,"Teilnehmer- und Bewertungsliste / List of participants and results             "]
[null,null,"Diese Liste ist nach Meldeschluss (Anmeldungen) und nach Veranstaltungsende (Ergebnisse) an die IRO zu senden. "]
[null,null,"Please send this list after the registration deadline (registrations) and after the end of the event (results) to the IRO. "]
[null,null,"NRO"]
[null,null,"Prüfungsort\nTest Location:"]
[null,null,"Datum\nDate"]
[]
[null,null,null,"A/B","Sparte, Stufe\nDiscipline, Level","Richtername\nName of Judge"]
[null,null,"LR / Judge  1 :"]
[null,null,"LR / Judge  2 :"]
[null,null,"LR / Judge  3 :"]
[null,null,"Prüfungsleiter /\nTest Organising Officer"]
[]
["Nr.        No.","Anmeldedatum, -zeit\nRegistration date and time","Hundeführer/in Dog Handler",null,"Hund / Dog",null,null,null,null,"NRO","Land           Country","Ergebnisse / Results",null,null,null,null,"Bemerkungen  Remarks"]
[null,null,"Name \nSurname","Vorname                                  \nFirst Name","Hundename                               \nDog Name","Rasse\nBreed","Wurfdatum              \nLitter Date","Chip/Tattoo Nr.            Chip/Tattoo No.","Rüde/ Hündin                  male/ female",null,null,"Sparte","A","B","Gesamtpunkte   Total Points","Note    Grade"]
[1]
[2]
[3]
[4]
[5]
[6]
[7]
[8]
[9]
[10]
[11]
[12]
[13]
[14]
[15]
[16]
[17]
[18]
[19]
[20]
[21]
[22]
[23]
[24]
[25]
[26]
[27]
[28]
[29]
[30]
[31]
[32]
[33]
[34]
[35]
[36]
[37]
[38]
[39]
[40]
[41]
[42]
[43]
[44]
[45]
[46]
[47]
[48]
[49]
[50]
[51]
[52]
[53]
[54]
[55]
[56]
[57]
[58]
[59]
[60]
[61]
[62]
[63]
[64]
[65]
[66]
[67]
[68]
[69]
[70]
[71]
[72]
[73]
[74]
[75]
[76]
[77]
[78]
[79]
[80]
[81]
[82]
[83]
[84]
[85]
[86]
[87]
[88]
[89]
[90]

{"sheet":"Warteliste_waiting list","index":1,"n_rows":25,"n_cols":10,"rows_kept":25,"cut":false,"hidden":false,"merged":[[0,0,0,9],[2,0,3,0],[2,2,2,3],[2,4,2,7],[2,8,3,8],[2,9,3,9],[2,1,3,1]]}
["Liste der gemeldeten Teams auf der Warteliste (max. 5 pro Disziplin & Stufe) / List of teams on waiting list (max. 5 per discpline & level)"]
[]
["Nr.        No.","Anmeldedatum, -zeit\nRegistration date and time","Hundeführer/in Dog Handler",null,"Hund / Dog",null,null,null,"NRO","Land           Country"]
[null,null,"Name                      Surname","Vorname                                   Firstname","Hundename                                Dogname","Rasse              Breed","Wurfdatum              Litter Date","Chip/Tattoo Nr.            Chip/Tattoo No."]
[1]
[2]
[3]
[4]
[5]
[6]
[7]
[8]
[9]
[10]
[11]
[12]
[13]
[14]
[15]
[16]
[17]
[18]
[19]
[20]
[21]

{"sheet":"Nicht Teilgenommen_no show","index":2,"n_rows":25,"n_cols":18,"rows_kept":25,"cut":false,"hidden":false,"merged":[[0,0,0,17],[2,17,3,17],[2,0,3,0],[2,1,2,2],[2,3,2,6],[2,8,3,8],[2,9,3,9]]}
["Liste der gemeldeten aber nicht teilgenommenen Teams / List of registered teams which did not show"]
[]
["Nr.        No.","Hundeführer/in Dog Handler",null,"Hund / Dog",null,null,null,null,"NRO","Land           Country",null,null,null,null,null,null,null,"Grund der Nichtteilnahme            Reason for no-show"]
[null,"Name                      Surname","Vorname                                   Firstname","Hundename                                Dogname","Rasse              Breed","Wurfdatum              Litter Date","Chip/Tattoo Nr.            Chip/Tattoo No.","Sparte / Discipline"]
[1]
[2]
[3]
[4]
[5]
[6]
[7]
[8]
[9]
[10]
[11]
[12]
[13]
[14]
[15]
[16]
[17]
[18]
[19]
[20]
[21]

{"sheet":"Tabelle1","index":3,"n_rows":3,"n_cols":1,"rows_kept":3,"cut":false,"hidden":true,"merged":[]}
[]
["Nasenarbeit/Scent Work"]
["Unterordnung und Gewandtheit/Obedience and Dexterity"]

{"sheet":"Hilfstabelle","index":4,"n_rows":20,"n_cols":3,"rows_kept":20,"cut":false,"hidden":false,"merged":[]}
["Prüfungssparten","Noten","Prüfungssparten neu"]
["RH-F E","v"]
["RH-F A","sg","T-V"]
["RH-F B","g","T-A"]
["RH-FL E","b","T-B"]
["RH-FL A","m","FL-V"]
["RH-FL B","abg.","FL-A"]
["RH-T E","dis.","FL-B"]
["RH-T A","no show","F-V"]
["RH-T B",null,"F-A"]
["RH-L E",null,"F-B"]
["RH-L A",null,"MT-V"]
["RH-L B",null,"MT-A"]
["RH-W E",null,"MT-B"]
["RH-W A",null,"W-V"]
["RH-W B",null,"W-A"]
[null,null,"W-B"]
[null,null,"L-V"]
[null,null,"L-A"]
[null,null,"L-B"]

{"sheet":"Etiketten_labels","index":5,"n_rows":90,"n_cols":6,"rows_kept":90,"cut":false,"hidden":false,"merged":[]}
["Name","Vorname","Hundename","Wurfdatum","ChipTattoo_Nr","Rüde/ Hündin          "]
[{"$f":"IF(Liste_list!C16<>\"\",Liste_list!C16,\"\")","v":""},{"$f":"IF(Liste_list!D16<>\"\",Liste_list!D16,\"\")","v":""},{"$f":"IF(Liste_list!E16<>\"\",Liste_list!E16,\"\")","v":""},{"$f":"IF(Liste_list!G16<>\"\",Liste_list!G16,\"\")","v":""},{"$f":"IF(Liste_list!H16<>\"\",Liste_list!H16,\"\")","v":""},{"$f":"IF(Liste_list!I16<>\"\",Liste_list!I16,\"\")","v":""}]
[{"$f":"IF(Liste_list!C17<>\"\",Liste_list!C17,\"\")","v":""},{"$f":"IF(Liste_list!D17<>\"\",Liste_list!D17,\"\")","v":""},{"$f":"IF(Liste_list!E17<>\"\",Liste_list!E17,\"\")","v":""},{"$f":"IF(Liste_list!G17<>\"\",Liste_list!G17,\"\")","v":""},{"$f":"IF(Liste_list!H17<>\"\",Liste_list!H17,\"\")","v":""},{"$f":"IF(Liste_list!I17<>\"\",Liste_list!I17,\"\")","v":""}]
[{"$f":"IF(Liste_list!C18<>\"\",Liste_list!C18,\"\")","v":""},{"$f":"IF(Liste_list!D18<>\"\",Liste_list!D18,\"\")","v":""},{"$f":"IF(Liste_list!E18<>\"\",Liste_list!E18,\"\")","v":""},{"$f":"IF(Liste_list!G18<>\"\",Liste_list!G18,\"\")","v":""},{"$f":"IF(Liste_list!H18<>\"\",Liste_list!H18,\"\")","v":""},{"$f":"IF(Liste_list!I18<>\"\",Liste_list!I18,\"\")","v":""}]
[{"$f":"IF(Liste_list!C19<>\"\",Liste_list!C19,\"\")","v":""},{"$f":"IF(Liste_list!D19<>\"\",Liste_list!D19,\"\")","v":""},{"$f":"IF(Liste_list!E19<>\"\",Liste_list!E19,\"\")","v":""},{"$f":"IF(Liste_list!G19<>\"\",Liste_list!G19,\"\")","v":""},{"$f":"IF(Liste_list!H19<>\"\",Liste_list!H19,\"\")","v":""},{"$f":"IF(Liste_list!I19<>\"\",Liste_list!I19,\"\")","v":""}]
[{"$f":"IF(Liste_list!C20<>\"\",Liste_list!C20,\"\")","v":""},{"$f":"IF(Liste_list!D20<>\"\",Liste_list!D20,\"\")","v":""},{"$f":"IF(Liste_list!E20<>\"\",Liste_list!E20,\"\")","v":""},{"$f":"IF(Liste_list!G20<>\"\",Liste_list!G20,\"\")","v":""},{"$f":"IF(Liste_list!H20<>\"\",Liste_list!H20,\"\")","v":""},{"$f":"IF(Liste_list!I20<>\"\",Liste_list!I20,\"\")","v":""}]
[{"$f":"IF(Liste_list!C21<>\"\",Liste_list!C21,\"\")","v":""},{"$f":"IF(Liste_list!D21<>\"\",Liste_list!D21,\"\")","v":""},{"$f":"IF(Liste_list!E21<>\"\",Liste_list!E21,\"\")","v":""},{"$f":"IF(Liste_list!G21<>\"\",Liste_list!G21,\"\")","v":""},{"$f":"IF(Liste_list!H21<>\"\",Liste_list!H21,\"\")","v":""},{"$f":"IF(Liste_list!I21<>\"\",Liste_list!I21,\"\")","v":""}]
[{"$f":"IF(Liste_list!C22<>\"\",Liste_list!C22,\"\")","v":""},{"$f":"IF(Liste_list!D22<>\"\",Liste_list!D22,\"\")","v":""},{"$f":"IF(Liste_list!E22<>\"\",Liste_list!E22,\"\")","v":""},{"$f":"IF(Liste_list!G22<>\"\",Liste_list!G22,\"\")","v":""},{"$f":"IF(Liste_list!H22<>\"\",Liste_list!H22,\"\")","v":""},{"$f":"IF(Liste_list!I22<>\"\",Liste_list!I22,\"\")","v":""}]
[{"$f":"IF(Liste_list!C23<>\"\",Liste_list!C23,\"\")","v":""},{"$f":"IF(Liste_list!D23<>\"\",Liste_list!D23,\"\")","v":""},{"$f":"IF(Liste_list!E23<>\"\",Liste_list!E23,\"\")","v":""},{"$f":"IF(Liste_list!G23<>\"\",Liste_list!G23,\"\")","v":""},{"$f":"IF(Liste_list!H23<>\"\",Liste_list!H23,\"\")","v":""},{"$f":"IF(Liste_list!I23<>\"\",Liste_list!I23,\"\")","v":""}]
[{"$f":"IF(Liste_list!C24<>\"\",Liste_list!C24,\"\")","v":""},{"$f":"IF(Liste_list!D24<>\"\",Liste_list!D24,\"\")","v":""},{"$f":"IF(Liste_list!E24<>\"\",Liste_list!E24,\"\")","v":""},{"$f":"IF(Liste_list!G24<>\"\",Liste_list!G24,\"\")","v":""},{"$f":"IF(Liste_list!H24<>\"\",Liste_list!H24,\"\")","v":""},{"$f":"IF(Liste_list!I24<>\"\",Liste_list!I24,\"\")","v":""}]
[{"$f":"IF(Liste_list!C25<>\"\",Liste_list!C25,\"\")","v":""},{"$f":"IF(Liste_list!D25<>\"\",Liste_list!D25,\"\")","v":""},{"$f":"IF(Liste_list!E25<>\"\",Liste_list!E25,\"\")","v":""},{"$f":"IF(Liste_list!G25<>\"\",Liste_list!G25,\"\")","v":""},{"$f":"IF(Liste_list!H25<>\"\",Liste_list!H25,\"\")","v":""},{"$f":"IF(Liste_list!I25<>\"\",Liste_list!I25,\"\")","v":""}]
[{"$f":"IF(Liste_list!C26<>\"\",Liste_list!C26,\"\")","v":""},{"$f":"IF(Liste_list!D26<>\"\",Liste_list!D26,\"\")","v":""},{"$f":"IF(Liste_list!E26<>\"\",Liste_list!E26,\"\")","v":""},{"$f":"IF(Liste_list!G26<>\"\",Liste_list!G26,\"\")","v":""},{"$f":"IF(Liste_list!H26<>\"\",Liste_list!H26,\"\")","v":""},{"$f":"IF(Liste_list!I26<>\"\",Liste_list!I26,\"\")","v":""}]
[{"$f":"IF(Liste_list!C27<>\"\",Liste_list!C27,\"\")","v":""},{"$f":"IF(Liste_list!D27<>\"\",Liste_list!D27,\"\")","v":""},{"$f":"IF(Liste_list!E27<>\"\",Liste_list!E27,\"\")","v":""},{"$f":"IF(Liste_list!G27<>\"\",Liste_list!G27,\"\")","v":""},{"$f":"IF(Liste_list!H27<>\"\",Liste_list!H27,\"\")","v":""},{"$f":"IF(Liste_list!I27<>\"\",Liste_list!I27,\"\")","v":""}]
[{"$f":"IF(Liste_list!C28<>\"\",Liste_list!C28,\"\")","v":""},{"$f":"IF(Liste_list!D28<>\"\",Liste_list!D28,\"\")","v":""},{"$f":"IF(Liste_list!E28<>\"\",Liste_list!E28,\"\")","v":""},{"$f":"IF(Liste_list!G28<>\"\",Liste_list!G28,\"\")","v":""},{"$f":"IF(Liste_list!H28<>\"\",Liste_list!H28,\"\")","v":""},{"$f":"IF(Liste_list!I28<>\"\",Liste_list!I28,\"\")","v":""}]
[{"$f":"IF(Liste_list!C29<>\"\",Liste_list!C29,\"\")","v":""},{"$f":"IF(Liste_list!D29<>\"\",Liste_list!D29,\"\")","v":""},{"$f":"IF(Liste_list!E29<>\"\",Liste_list!E29,\"\")","v":""},{"$f":"IF(Liste_list!G29<>\"\",Liste_list!G29,\"\")","v":""},{"$f":"IF(Liste_list!H29<>\"\",Liste_list!H29,\"\")","v":""},{"$f":"IF(Liste_list!I29<>\"\",Liste_list!I29,\"\")","v":""}]
[{"$f":"IF(Liste_list!C30<>\"\",Liste_list!C30,\"\")","v":""},{"$f":"IF(Liste_list!D30<>\"\",Liste_list!D30,\"\")","v":""},{"$f":"IF(Liste_list!E30<>\"\",Liste_list!E30,\"\")","v":""},{"$f":"IF(Liste_list!G30<>\"\",Liste_list!G30,\"\")","v":""},{"$f":"IF(Liste_list!H30<>\"\",Liste_list!H30,\"\")","v":""},{"$f":"IF(Liste_list!I30<>\"\",Liste_list!I30,\"\")","v":""}]
[{"$f":"IF(Liste_list!C31<>\"\",Liste_list!C31,\"\")","v":""},{"$f":"IF(Liste_list!D31<>\"\",Liste_list!D31,\"\")","v":""},{"$f":"IF(Liste_list!E31<>\"\",Liste_list!E31,\"\")","v":""},{"$f":"IF(Liste_list!G31<>\"\",Liste_list!G31,\"\")","v":""},{"$f":"IF(Liste_list!H31<>\"\",Liste_list!H31,\"\")","v":""},{"$f":"IF(Liste_list!I31<>\"\",Liste_list!I31,\"\")","v":""}]
[{"$f":"IF(Liste_list!C32<>\"\",Liste_list!C32,\"\")","v":""},{"$f":"IF(Liste_list!D32<>\"\",Liste_list!D32,\"\")","v":""},{"$f":"IF(Liste_list!E32<>\"\",Liste_list!E32,\"\")","v":""},{"$f":"IF(Liste_list!G32<>\"\",Liste_list!G32,\"\")","v":""},{"$f":"IF(Liste_list!H32<>\"\",Liste_list!H32,\"\")","v":""},{"$f":"IF(Liste_list!I32<>\"\",Liste_list!I32,\"\")","v":""}]
[{"$f":"IF(Liste_list!C33<>\"\",Liste_list!C33,\"\")","v":""},{"$f":"IF(Liste_list!D33<>\"\",Liste_list!D33,\"\")","v":""},{"$f":"IF(Liste_list!E33<>\"\",Liste_list!E33,\"\")","v":""},{"$f":"IF(Liste_list!G33<>\"\",Liste_list!G33,\"\")","v":""},{"$f":"IF(Liste_list!H33<>\"\",Liste_list!H33,\"\")","v":""},{"$f":"IF(Liste_list!I33<>\"\",Liste_list!I33,\"\")","v":""}]
[{"$f":"IF(Liste_list!C34<>\"\",Liste_list!C34,\"\")","v":""},{"$f":"IF(Liste_list!D34<>\"\",Liste_list!D34,\"\")","v":""},{"$f":"IF(Liste_list!E34<>\"\",Liste_list!E34,\"\")","v":""},{"$f":"IF(Liste_list!G34<>\"\",Liste_list!G34,\"\")","v":""},{"$f":"IF(Liste_list!H34<>\"\",Liste_list!H34,\"\")","v":""},{"$f":"IF(Liste_list!I34<>\"\",Liste_list!I34,\"\")","v":""}]
[{"$f":"IF(Liste_list!C35<>\"\",Liste_list!C35,\"\")","v":""},{"$f":"IF(Liste_list!D35<>\"\",Liste_list!D35,\"\")","v":""},{"$f":"IF(Liste_list!E35<>\"\",Liste_list!E35,\"\")","v":""},{"$f":"IF(Liste_list!G35<>\"\",Liste_list!G35,\"\")","v":""},{"$f":"IF(Liste_list!H35<>\"\",Liste_list!H35,\"\")","v":""},{"$f":"IF(Liste_list!I35<>\"\",Liste_list!I35,\"\")","v":""}]
[{"$f":"IF(Liste_list!C36<>\"\",Liste_list!C36,\"\")","v":""},{"$f":"IF(Liste_list!D36<>\"\",Liste_list!D36,\"\")","v":""},{"$f":"IF(Liste_list!E36<>\"\",Liste_list!E36,\"\")","v":""},{"$f":"IF(Liste_list!G36<>\"\",Liste_list!G36,\"\")","v":""},{"$f":"IF(Liste_list!H36<>\"\",Liste_list!H36,\"\")","v":""},{"$f":"IF(Liste_list!I36<>\"\",Liste_list!I36,\"\")","v":""}]
[{"$f":"IF(Liste_list!C37<>\"\",Liste_list!C37,\"\")","v":""},{"$f":"IF(Liste_list!D37<>\"\",Liste_list!D37,\"\")","v":""},{"$f":"IF(Liste_list!E37<>\"\",Liste_list!E37,\"\")","v":""},{"$f":"IF(Liste_list!G37<>\"\",Liste_list!G37,\"\")","v":""},{"$f":"IF(Liste_list!H37<>\"\",Liste_list!H37,\"\")","v":""},{"$f":"IF(Liste_list!I37<>\"\",Liste_list!I37,\"\")","v":""}]
[{"$f":"IF(Liste_list!C38<>\"\",Liste_list!C38,\"\")","v":""},{"$f":"IF(Liste_list!D38<>\"\",Liste_list!D38,\"\")","v":""},{"$f":"IF(Liste_list!E38<>\"\",Liste_list!E38,\"\")","v":""},{"$f":"IF(Liste_list!G38<>\"\",Liste_list!G38,\"\")","v":""},{"$f":"IF(Liste_list!H38<>\"\",Liste_list!H38,\"\")","v":""},{"$f":"IF(Liste_list!I38<>\"\",Liste_list!I38,\"\")","v":""}]
[{"$f":"IF(Liste_list!C39<>\"\",Liste_list!C39,\"\")","v":""},{"$f":"IF(Liste_list!D39<>\"\",Liste_list!D39,\"\")","v":""},{"$f":"IF(Liste_list!E39<>\"\",Liste_list!E39,\"\")","v":""},{"$f":"IF(Liste_list!G39<>\"\",Liste_list!G39,\"\")","v":""},{"$f":"IF(Liste_list!H39<>\"\",Liste_list!H39,\"\")","v":""},{"$f":"IF(Liste_list!I39<>\"\",Liste_list!I39,\"\")","v":""}]
[{"$f":"IF(Liste_list!C40<>\"\",Liste_list!C40,\"\")","v":""},{"$f":"IF(Liste_list!D40<>\"\",Liste_list!D40,\"\")","v":""},{"$f":"IF(Liste_list!E40<>\"\",Liste_list!E40,\"\")","v":""},{"$f":"IF(Liste_list!G40<>\"\",Liste_list!G40,\"\")","v":""},{"$f":"IF(Liste_list!H40<>\"\",Liste_list!H40,\"\")","v":""},{"$f":"IF(Liste_list!I40<>\"\",Liste_list!I40,\"\")","v":""}]
[{"$f":"IF(Liste_list!C41<>\"\",Liste_list!C41,\"\")","v":""},{"$f":"IF(Liste_list!D41<>\"\",Liste_list!D41,\"\")","v":""},{"$f":"IF(Liste_list!E41<>\"\",Liste_list!E41,\"\")","v":""},{"$f":"IF(Liste_list!G41<>\"\",Liste_list!G41,\"\")","v":""},{"$f":"IF(Liste_list!H41<>\"\",Liste_list!H41,\"\")","v":""},{"$f":"IF(Liste_list!I41<>\"\",Liste_list!I41,\"\")","v":""}]
[{"$f":"IF(Liste_list!C42<>\"\",Liste_list!C42,\"\")","v":""},{"$f":"IF(Liste_list!D42<>\"\",Liste_list!D42,\"\")","v":""},{"$f":"IF(Liste_list!E42<>\"\",Liste_list!E42,\"\")","v":""},{"$f":"IF(Liste_list!G42<>\"\",Liste_list!G42,\"\")","v":""},{"$f":"IF(Liste_list!H42<>\"\",Liste_list!H42,\"\")","v":""},{"$f":"IF(Liste_list!I42<>\"\",Liste_list!I42,\"\")","v":""}]
[{"$f":"IF(Liste_list!C43<>\"\",Liste_list!C43,\"\")","v":""},{"$f":"IF(Liste_list!D43<>\"\",Liste_list!D43,\"\")","v":""},{"$f":"IF(Liste_list!E43<>\"\",Liste_list!E43,\"\")","v":""},{"$f":"IF(Liste_list!G43<>\"\",Liste_list!G43,\"\")","v":""},{"$f":"IF(Liste_list!H43<>\"\",Liste_list!H43,\"\")","v":""},{"$f":"IF(Liste_list!I43<>\"\",Liste_list!I43,\"\")","v":""}]
[{"$f":"IF(Liste_list!C44<>\"\",Liste_list!C44,\"\")","v":""},{"$f":"IF(Liste_list!D44<>\"\",Liste_list!D44,\"\")","v":""},{"$f":"IF(Liste_list!E44<>\"\",Liste_list!E44,\"\")","v":""},{"$f":"IF(Liste_list!G44<>\"\",Liste_list!G44,\"\")","v":""},{"$f":"IF(Liste_list!H44<>\"\",Liste_list!H44,\"\")","v":""},{"$f":"IF(Liste_list!I44<>\"\",Liste_list!I44,\"\")","v":""}]
[{"$f":"IF(Liste_list!C45<>\"\",Liste_list!C45,\"\")","v":""},{"$f":"IF(Liste_list!D45<>\"\",Liste_list!D45,\"\")","v":""},{"$f":"IF(Liste_list!E45<>\"\",Liste_list!E45,\"\")","v":""},{"$f":"IF(Liste_list!G45<>\"\",Liste_list!G45,\"\")","v":""},{"$f":"IF(Liste_list!H45<>\"\",Liste_list!H45,\"\")","v":""},{"$f":"IF(Liste_list!I45<>\"\",Liste_list!I45,\"\")","v":""}]
[{"$f":"IF(Liste_list!C46<>\"\",Liste_list!C46,\"\")","v":""},{"$f":"IF(Liste_list!D46<>\"\",Liste_list!D46,\"\")","v":""},{"$f":"IF(Liste_list!E46<>\"\",Liste_list!E46,\"\")","v":""},{"$f":"IF(Liste_list!G46<>\"\",Liste_list!G46,\"\")","v":""},{"$f":"IF(Liste_list!H46<>\"\",Liste_list!H46,\"\")","v":""},{"$f":"IF(Liste_list!I46<>\"\",Liste_list!I46,\"\")","v":""}]
[{"$f":"IF(Liste_list!C47<>\"\",Liste_list!C47,\"\")","v":""},{"$f":"IF(Liste_list!D47<>\"\",Liste_list!D47,\"\")","v":""},{"$f":"IF(Liste_list!E47<>\"\",Liste_list!E47,\"\")","v":""},{"$f":"IF(Liste_list!G47<>\"\",Liste_list!G47,\"\")","v":""},{"$f":"IF(Liste_list!H47<>\"\",Liste_list!H47,\"\")","v":""},{"$f":"IF(Liste_list!I47<>\"\",Liste_list!I47,\"\")","v":""}]
[{"$f":"IF(Liste_list!C48<>\"\",Liste_list!C48,\"\")","v":""},{"$f":"IF(Liste_list!D48<>\"\",Liste_list!D48,\"\")","v":""},{"$f":"IF(Liste_list!E48<>\"\",Liste_list!E48,\"\")","v":""},{"$f":"IF(Liste_list!G48<>\"\",Liste_list!G48,\"\")","v":""},{"$f":"IF(Liste_list!H48<>\"\",Liste_list!H48,\"\")","v":""},{"$f":"IF(Liste_list!I48<>\"\",Liste_list!I48,\"\")","v":""}]
[{"$f":"IF(Liste_list!C49<>\"\",Liste_list!C49,\"\")","v":""},{"$f":"IF(Liste_list!D49<>\"\",Liste_list!D49,\"\")","v":""},{"$f":"IF(Liste_list!E49<>\"\",Liste_list!E49,\"\")","v":""},{"$f":"IF(Liste_list!G49<>\"\",Liste_list!G49,\"\")","v":""},{"$f":"IF(Liste_list!H49<>\"\",Liste_list!H49,\"\")","v":""},{"$f":"IF(Liste_list!I49<>\"\",Liste_list!I49,\"\")","v":""}]
[{"$f":"IF(Liste_list!C50<>\"\",Liste_list!C50,\"\")","v":""},{"$f":"IF(Liste_list!D50<>\"\",Liste_list!D50,\"\")","v":""},{"$f":"IF(Liste_list!E50<>\"\",Liste_list!E50,\"\")","v":""},{"$f":"IF(Liste_list!G50<>\"\",Liste_list!G50,\"\")","v":""},{"$f":"IF(Liste_list!H50<>\"\",Liste_list!H50,\"\")","v":""},{"$f":"IF(Liste_list!I50<>\"\",Liste_list!I50,\"\")","v":""}]
[{"$f":"IF(Liste_list!C51<>\"\",Liste_list!C51,\"\")","v":""},{"$f":"IF(Liste_list!D51<>\"\",Liste_list!D51,\"\")","v":""},{"$f":"IF(Liste_list!E51<>\"\",Liste_list!E51,\"\")","v":""},{"$f":"IF(Liste_list!G51<>\"\",Liste_list!G51,\"\")","v":""},{"$f":"IF(Liste_list!H51<>\"\",Liste_list!H51,\"\")","v":""},{"$f":"IF(Liste_list!I51<>\"\",Liste_list!I51,\"\")","v":""}]
[{"$f":"IF(Liste_list!C52<>\"\",Liste_list!C52,\"\")","v":""},{"$f":"IF(Liste_list!D52<>\"\",Liste_list!D52,\"\")","v":""},{"$f":"IF(Liste_list!E52<>\"\",Liste_list!E52,\"\")","v":""},{"$f":"IF(Liste_list!G52<>\"\",Liste_list!G52,\"\")","v":""},{"$f":"IF(Liste_list!H52<>\"\",Liste_list!H52,\"\")","v":""},{"$f":"IF(Liste_list!I52<>\"\",Liste_list!I52,\"\")","v":""}]
[{"$f":"IF(Liste_list!C53<>\"\",Liste_list!C53,\"\")","v":""},{"$f":"IF(Liste_list!D53<>\"\",Liste_list!D53,\"\")","v":""},{"$f":"IF(Liste_list!E53<>\"\",Liste_list!E53,\"\")","v":""},{"$f":"IF(Liste_list!G53<>\"\",Liste_list!G53,\"\")","v":""},{"$f":"IF(Liste_list!H53<>\"\",Liste_list!H53,\"\")","v":""},{"$f":"IF(Liste_list!I53<>\"\",Liste_list!I53,\"\")","v":""}]
[{"$f":"IF(Liste_list!C54<>\"\",Liste_list!C54,\"\")","v":""},{"$f":"IF(Liste_list!D54<>\"\",Liste_list!D54,\"\")","v":""},{"$f":"IF(Liste_list!E54<>\"\",Liste_list!E54,\"\")","v":""},{"$f":"IF(Liste_list!G54<>\"\",Liste_list!G54,\"\")","v":""},{"$f":"IF(Liste_list!H54<>\"\",Liste_list!H54,\"\")","v":""},{"$f":"IF(Liste_list!I54<>\"\",Liste_list!I54,\"\")","v":""}]
[{"$f":"IF(Liste_list!C55<>\"\",Liste_list!C55,\"\")","v":""},{"$f":"IF(Liste_list!D55<>\"\",Liste_list!D55,\"\")","v":""},{"$f":"IF(Liste_list!E55<>\"\",Liste_list!E55,\"\")","v":""},{"$f":"IF(Liste_list!G55<>\"\",Liste_list!G55,\"\")","v":""},{"$f":"IF(Liste_list!H55<>\"\",Liste_list!H55,\"\")","v":""},{"$f":"IF(Liste_list!I55<>\"\",Liste_list!I55,\"\")","v":""}]
[{"$f":"IF(Liste_list!C56<>\"\",Liste_list!C56,\"\")","v":""},{"$f":"IF(Liste_list!D56<>\"\",Liste_list!D56,\"\")","v":""},{"$f":"IF(Liste_list!E56<>\"\",Liste_list!E56,\"\")","v":""},{"$f":"IF(Liste_list!G56<>\"\",Liste_list!G56,\"\")","v":""},{"$f":"IF(Liste_list!H56<>\"\",Liste_list!H56,\"\")","v":""},{"$f":"IF(Liste_list!I56<>\"\",Liste_list!I56,\"\")","v":""}]
[{"$f":"IF(Liste_list!C57<>\"\",Liste_list!C57,\"\")","v":""},{"$f":"IF(Liste_list!D57<>\"\",Liste_list!D57,\"\")","v":""},{"$f":"IF(Liste_list!E57<>\"\",Liste_list!E57,\"\")","v":""},{"$f":"IF(Liste_list!G57<>\"\",Liste_list!G57,\"\")","v":""},{"$f":"IF(Liste_list!H57<>\"\",Liste_list!H57,\"\")","v":""},{"$f":"IF(Liste_list!I57<>\"\",Liste_list!I57,\"\")","v":""}]
[{"$f":"IF(Liste_list!C58<>\"\",Liste_list!C58,\"\")","v":""},{"$f":"IF(Liste_list!D58<>\"\",Liste_list!D58,\"\")","v":""},{"$f":"IF(Liste_list!E58<>\"\",Liste_list!E58,\"\")","v":""},{"$f":"IF(Liste_list!G58<>\"\",Liste_list!G58,\"\")","v":""},{"$f":"IF(Liste_list!H58<>\"\",Liste_list!H58,\"\")","v":""},{"$f":"IF(Liste_list!I58<>\"\",Liste_list!I58,\"\")","v":""}]
[{"$f":"IF(Liste_list!C59<>\"\",Liste_list!C59,\"\")","v":""},{"$f":"IF(Liste_list!D59<>\"\",Liste_list!D59,\"\")","v":""},{"$f":"IF(Liste_list!E59<>\"\",Liste_list!E59,\"\")","v":""},{"$f":"IF(Liste_list!G59<>\"\",Liste_list!G59,\"\")","v":""},{"$f":"IF(Liste_list!H59<>\"\",Liste_list!H59,\"\")","v":""},{"$f":"IF(Liste_list!I59<>\"\",Liste_list!I59,\"\")","v":""}]
[{"$f":"IF(Liste_list!C60<>\"\",Liste_list!C60,\"\")","v":""},{"$f":"IF(Liste_list!D60<>\"\",Liste_list!D60,\"\")","v":""},{"$f":"IF(Liste_list!E60<>\"\",Liste_list!E60,\"\")","v":""},{"$f":"IF(Liste_list!G60<>\"\",Liste_list!G60,\"\")","v":""},{"$f":"IF(Liste_list!H60<>\"\",Liste_list!H60,\"\")","v":""},{"$f":"IF(Liste_list!I60<>\"\",Liste_list!I60,\"\")","v":""}]
[{"$f":"IF(Liste_list!C61<>\"\",Liste_list!C61,\"\")","v":""},{"$f":"IF(Liste_list!D61<>\"\",Liste_list!D61,\"\")","v":""},{"$f":"IF(Liste_list!E61<>\"\",Liste_list!E61,\"\")","v":""},{"$f":"IF(Liste_list!G61<>\"\",Liste_list!G61,\"\")","v":""},{"$f":"IF(Liste_list!H61<>\"\",Liste_list!H61,\"\")","v":""},{"$f":"IF(Liste_list!I61<>\"\",Liste_list!I61,\"\")","v":""}]
[{"$f":"IF(Liste_list!C62<>\"\",Liste_list!C62,\"\")","v":""},{"$f":"IF(Liste_list!D62<>\"\",Liste_list!D62,\"\")","v":""},{"$f":"IF(Liste_list!E62<>\"\",Liste_list!E62,\"\")","v":""},{"$f":"IF(Liste_list!G62<>\"\",Liste_list!G62,\"\")","v":""},{"$f":"IF(Liste_list!H62<>\"\",Liste_list!H62,\"\")","v":""},{"$f":"IF(Liste_list!I62<>\"\",Liste_list!I62,\"\")","v":""}]
[{"$f":"IF(Liste_list!C63<>\"\",Liste_list!C63,\"\")","v":""},{"$f":"IF(Liste_list!D63<>\"\",Liste_list!D63,\"\")","v":""},{"$f":"IF(Liste_list!E63<>\"\",Liste_list!E63,\"\")","v":""},{"$f":"IF(Liste_list!G63<>\"\",Liste_list!G63,\"\")","v":""},{"$f":"IF(Liste_list!H63<>\"\",Liste_list!H63,\"\")","v":""},{"$f":"IF(Liste_list!I63<>\"\",Liste_list!I63,\"\")","v":""}]
[{"$f":"IF(Liste_list!C64<>\"\",Liste_list!C64,\"\")","v":""},{"$f":"IF(Liste_list!D64<>\"\",Liste_list!D64,\"\")","v":""},{"$f":"IF(Liste_list!E64<>\"\",Liste_list!E64,\"\")","v":""},{"$f":"IF(Liste_list!G64<>\"\",Liste_list!G64,\"\")","v":""},{"$f":"IF(Liste_list!H64<>\"\",Liste_list!H64,\"\")","v":""},{"$f":"IF(Liste_list!I64<>\"\",Liste_list!I64,\"\")","v":""}]
[{"$f":"IF(Liste_list!C65<>\"\",Liste_list!C65,\"\")","v":""},{"$f":"IF(Liste_list!D65<>\"\",Liste_list!D65,\"\")","v":""},{"$f":"IF(Liste_list!E65<>\"\",Liste_list!E65,\"\")","v":""},{"$f":"IF(Liste_list!G65<>\"\",Liste_list!G65,\"\")","v":""},{"$f":"IF(Liste_list!H65<>\"\",Liste_list!H65,\"\")","v":""},{"$f":"IF(Liste_list!I65<>\"\",Liste_list!I65,\"\")","v":""}]
[{"$f":"IF(Liste_list!C66<>\"\",Liste_list!C66,\"\")","v":""},{"$f":"IF(Liste_list!D66<>\"\",Liste_list!D66,\"\")","v":""},{"$f":"IF(Liste_list!E66<>\"\",Liste_list!E66,\"\")","v":""},{"$f":"IF(Liste_list!G66<>\"\",Liste_list!G66,\"\")","v":""},{"$f":"IF(Liste_list!H66<>\"\",Liste_list!H66,\"\")","v":""},{"$f":"IF(Liste_list!I66<>\"\",Liste_list!I66,\"\")","v":""}]
[{"$f":"IF(Liste_list!C67<>\"\",Liste_list!C67,\"\")","v":""},{"$f":"IF(Liste_list!D67<>\"\",Liste_list!D67,\"\")","v":""},{"$f":"IF(Liste_list!E67<>\"\",Liste_list!E67,\"\")","v":""},{"$f":"IF(Liste_list!G67<>\"\",Liste_list!G67,\"\")","v":""},{"$f":"IF(Liste_list!H67<>\"\",Liste_list!H67,\"\")","v":""},{"$f":"IF(Liste_list!I67<>\"\",Liste_list!I67,\"\")","v":""}]
[{"$f":"IF(Liste_list!C68<>\"\",Liste_list!C68,\"\")","v":""},{"$f":"IF(Liste_list!D68<>\"\",Liste_list!D68,\"\")","v":""},{"$f":"IF(Liste_list!E68<>\"\",Liste_list!E68,\"\")","v":""},{"$f":"IF(Liste_list!G68<>\"\",Liste_list!G68,\"\")","v":""},{"$f":"IF(Liste_list!H68<>\"\",Liste_list!H68,\"\")","v":""},{"$f":"IF(Liste_list!I68<>\"\",Liste_list!I68,\"\")","v":""}]
[{"$f":"IF(Liste_list!C69<>\"\",Liste_list!C69,\"\")","v":""},{"$f":"IF(Liste_list!D69<>\"\",Liste_list!D69,\"\")","v":""},{"$f":"IF(Liste_list!E69<>\"\",Liste_list!E69,\"\")","v":""},{"$f":"IF(Liste_list!G69<>\"\",Liste_list!G69,\"\")","v":""},{"$f":"IF(Liste_list!H69<>\"\",Liste_list!H69,\"\")","v":""},{"$f":"IF(Liste_list!I69<>\"\",Liste_list!I69,\"\")","v":""}]
[{"$f":"IF(Liste_list!C70<>\"\",Liste_list!C70,\"\")","v":""},{"$f":"IF(Liste_list!D70<>\"\",Liste_list!D70,\"\")","v":""},{"$f":"IF(Liste_list!E70<>\"\",Liste_list!E70,\"\")","v":""},{"$f":"IF(Liste_list!G70<>\"\",Liste_list!G70,\"\")","v":""},{"$f":"IF(Liste_list!H70<>\"\",Liste_list!H70,\"\")","v":""},{"$f":"IF(Liste_list!I70<>\"\",Liste_list!I70,\"\")","v":""}]
[{"$f":"IF(Liste_list!C71<>\"\",Liste_list!C71,\"\")","v":""},{"$f":"IF(Liste_list!D71<>\"\",Liste_list!D71,\"\")","v":""},{"$f":"IF(Liste_list!E71<>\"\",Liste_list!E71,\"\")","v":""},{"$f":"IF(Liste_list!G71<>\"\",Liste_list!G71,\"\")","v":""},{"$f":"IF(Liste_list!H71<>\"\",Liste_list!H71,\"\")","v":""},{"$f":"IF(Liste_list!I71<>\"\",Liste_list!I71,\"\")","v":""}]
[{"$f":"IF(Liste_list!C72<>\"\",Liste_list!C72,\"\")","v":""},{"$f":"IF(Liste_list!D72<>\"\",Liste_list!D72,\"\")","v":""},{"$f":"IF(Liste_list!E72<>\"\",Liste_list!E72,\"\")","v":""},{"$f":"IF(Liste_list!G72<>\"\",Liste_list!G72,\"\")","v":""},{"$f":"IF(Liste_list!H72<>\"\",Liste_list!H72,\"\")","v":""},{"$f":"IF(Liste_list!I72<>\"\",Liste_list!I72,\"\")","v":""}]
[{"$f":"IF(Liste_list!C73<>\"\",Liste_list!C73,\"\")","v":""},{"$f":"IF(Liste_list!D73<>\"\",Liste_list!D73,\"\")","v":""},{"$f":"IF(Liste_list!E73<>\"\",Liste_list!E73,\"\")","v":""},{"$f":"IF(Liste_list!G73<>\"\",Liste_list!G73,\"\")","v":""},{"$f":"IF(Liste_list!H73<>\"\",Liste_list!H73,\"\")","v":""},{"$f":"IF(Liste_list!I73<>\"\",Liste_list!I73,\"\")","v":""}]
[{"$f":"IF(Liste_list!C74<>\"\",Liste_list!C74,\"\")","v":""},{"$f":"IF(Liste_list!D74<>\"\",Liste_list!D74,\"\")","v":""},{"$f":"IF(Liste_list!E74<>\"\",Liste_list!E74,\"\")","v":""},{"$f":"IF(Liste_list!G74<>\"\",Liste_list!G74,\"\")","v":""},{"$f":"IF(Liste_list!H74<>\"\",Liste_list!H74,\"\")","v":""},{"$f":"IF(Liste_list!I74<>\"\",Liste_list!I74,\"\")","v":""}]
[{"$f":"IF(Liste_list!C75<>\"\",Liste_list!C75,\"\")","v":""},{"$f":"IF(Liste_list!D75<>\"\",Liste_list!D75,\"\")","v":""},{"$f":"IF(Liste_list!E75<>\"\",Liste_list!E75,\"\")","v":""},{"$f":"IF(Liste_list!G75<>\"\",Liste_list!G75,\"\")","v":""},{"$f":"IF(Liste_list!H75<>\"\",Liste_list!H75,\"\")","v":""},{"$f":"IF(Liste_list!I75<>\"\",Liste_list!I75,\"\")","v":""}]
[{"$f":"IF(Liste_list!C76<>\"\",Liste_list!C76,\"\")","v":""},{"$f":"IF(Liste_list!D76<>\"\",Liste_list!D76,\"\")","v":""},{"$f":"IF(Liste_list!E76<>\"\",Liste_list!E76,\"\")","v":""},{"$f":"IF(Liste_list!G76<>\"\",Liste_list!G76,\"\")","v":""},{"$f":"IF(Liste_list!H76<>\"\",Liste_list!H76,\"\")","v":""},{"$f":"IF(Liste_list!I76<>\"\",Liste_list!I76,\"\")","v":""}]
[{"$f":"IF(Liste_list!C77<>\"\",Liste_list!C77,\"\")","v":""},{"$f":"IF(Liste_list!D77<>\"\",Liste_list!D77,\"\")","v":""},{"$f":"IF(Liste_list!E77<>\"\",Liste_list!E77,\"\")","v":""},{"$f":"IF(Liste_list!G77<>\"\",Liste_list!G77,\"\")","v":""},{"$f":"IF(Liste_list!H77<>\"\",Liste_list!H77,\"\")","v":""},{"$f":"IF(Liste_list!I77<>\"\",Liste_list!I77,\"\")","v":""}]
[{"$f":"IF(Liste_list!C78<>\"\",Liste_list!C78,\"\")","v":""},{"$f":"IF(Liste_list!D78<>\"\",Liste_list!D78,\"\")","v":""},{"$f":"IF(Liste_list!E78<>\"\",Liste_list!E78,\"\")","v":""},{"$f":"IF(Liste_list!G78<>\"\",Liste_list!G78,\"\")","v":""},{"$f":"IF(Liste_list!H78<>\"\",Liste_list!H78,\"\")","v":""},{"$f":"IF(Liste_list!I78<>\"\",Liste_list!I78,\"\")","v":""}]
[{"$f":"IF(Liste_list!C79<>\"\",Liste_list!C79,\"\")","v":""},{"$f":"IF(Liste_list!D79<>\"\",Liste_list!D79,\"\")","v":""},{"$f":"IF(Liste_list!E79<>\"\",Liste_list!E79,\"\")","v":""},{"$f":"IF(Liste_list!G79<>\"\",Liste_list!G79,\"\")","v":""},{"$f":"IF(Liste_list!H79<>\"\",Liste_list!H79,\"\")","v":""},{"$f":"IF(Liste_list!I79<>\"\",Liste_list!I79,\"\")","v":""}]
[{"$f":"IF(Liste_list!C80<>\"\",Liste_list!C80,\"\")","v":""},{"$f":"IF(Liste_list!D80<>\"\",Liste_list!D80,\"\")","v":""},{"$f":"IF(Liste_list!E80<>\"\",Liste_list!E80,\"\")","v":""},{"$f":"IF(Liste_list!G80<>\"\",Liste_list!G80,\"\")","v":""},{"$f":"IF(Liste_list!H80<>\"\",Liste_list!H80,\"\")","v":""},{"$f":"IF(Liste_list!I80<>\"\",Liste_list!I80,\"\")","v":""}]
[{"$f":"IF(Liste_list!C81<>\"\",Liste_list!C81,\"\")","v":""},{"$f":"IF(Liste_list!D81<>\"\",Liste_list!D81,\"\")","v":""},{"$f":"IF(Liste_list!E81<>\"\",Liste_list!E81,\"\")","v":""},{"$f":"IF(Liste_list!G81<>\"\",Liste_list!G81,\"\")","v":""},{"$f":"IF(Liste_list!H81<>\"\",Liste_list!H81,\"\")","v":""},{"$f":"IF(Liste_list!I81<>\"\",Liste_list!I81,\"\")","v":""}]
[{"$f":"IF(Liste_list!C82<>\"\",Liste_list!C82,\"\")","v":""},{"$f":"IF(Liste_list!D82<>\"\",Liste_list!D82,\"\")","v":""},{"$f":"IF(Liste_list!E82<>\"\",Liste_list!E82,\"\")","v":""},{"$f":"IF(Liste_list!G82<>\"\",Liste_list!G82,\"\")","v":""},{"$f":"IF(Liste_list!H82<>\"\",Liste_list!H82,\"\")","v":""},{"$f":"IF(Liste_list!I82<>\"\",Liste_list!I82,\"\")","v":""}]
[{"$f":"IF(Liste_list!C83<>\"\",Liste_list!C83,\"\")","v":""},{"$f":"IF(Liste_list!D83<>\"\",Liste_list!D83,\"\")","v":""},{"$f":"IF(Liste_list!E83<>\"\",Liste_list!E83,\"\")","v":""},{"$f":"IF(Liste_list!G83<>\"\",Liste_list!G83,\"\")","v":""},{"$f":"IF(Liste_list!H83<>\"\",Liste_list!H83,\"\")","v":""},{"$f":"IF(Liste_list!I83<>\"\",Liste_list!I83,\"\")","v":""}]
[{"$f":"IF(Liste_list!C84<>\"\",Liste_list!C84,\"\")","v":""},{"$f":"IF(Liste_list!D84<>\"\",Liste_list!D84,\"\")","v":""},{"$f":"IF(Liste_list!E84<>\"\",Liste_list!E84,\"\")","v":""},{"$f":"IF(Liste_list!G84<>\"\",Liste_list!G84,\"\")","v":""},{"$f":"IF(Liste_list!H84<>\"\",Liste_list!H84,\"\")","v":""},{"$f":"IF(Liste_list!I84<>\"\",Liste_list!I84,\"\")","v":""}]
[{"$f":"IF(Liste_list!C85<>\"\",Liste_list!C85,\"\")","v":""},{"$f":"IF(Liste_list!D85<>\"\",Liste_list!D85,\"\")","v":""},{"$f":"IF(Liste_list!E85<>\"\",Liste_list!E85,\"\")","v":""},{"$f":"IF(Liste_list!G85<>\"\",Liste_list!G85,\"\")","v":""},{"$f":"IF(Liste_list!H85<>\"\",Liste_list!H85,\"\")","v":""},{"$f":"IF(Liste_list!I85<>\"\",Liste_list!I85,\"\")","v":""}]
[{"$f":"IF(Liste_list!C86<>\"\",Liste_list!C86,\"\")","v":""},{"$f":"IF(Liste_list!D86<>\"\",Liste_list!D86,\"\")","v":""},{"$f":"IF(Liste_list!E86<>\"\",Liste_list!E86,\"\")","v":""},{"$f":"IF(Liste_list!G86<>\"\",Liste_list!G86,\"\")","v":""},{"$f":"IF(Liste_list!H86<>\"\",Liste_list!H86,\"\")","v":""},{"$f":"IF(Liste_list!I86<>\"\",Liste_list!I86,\"\")","v":""}]
[{"$f":"IF(Liste_list!C87<>\"\",Liste_list!C87,\"\")","v":""},{"$f":"IF(Liste_list!D87<>\"\",Liste_list!D87,\"\")","v":""},{"$f":"IF(Liste_list!E87<>\"\",Liste_list!E87,\"\")","v":""},{"$f":"IF(Liste_list!G87<>\"\",Liste_list!G87,\"\")","v":""},{"$f":"IF(Liste_list!H87<>\"\",Liste_list!H87,\"\")","v":""},{"$f":"IF(Liste_list!I87<>\"\",Liste_list!I87,\"\")","v":""}]
[{"$f":"IF(Liste_list!C88<>\"\",Liste_list!C88,\"\")","v":""},{"$f":"IF(Liste_list!D88<>\"\",Liste_list!D88,\"\")","v":""},{"$f":"IF(Liste_list!E88<>\"\",Liste_list!E88,\"\")","v":""},{"$f":"IF(Liste_list!G88<>\"\",Liste_list!G88,\"\")","v":""},{"$f":"IF(Liste_list!H88<>\"\",Liste_list!H88,\"\")","v":""},{"$f":"IF(Liste_list!I88<>\"\",Liste_list!I88,\"\")","v":""}]
[{"$f":"IF(Liste_list!C89<>\"\",Liste_list!C89,\"\")","v":""},{"$f":"IF(Liste_list!D89<>\"\",Liste_list!D89,\"\")","v":""},{"$f":"IF(Liste_list!E89<>\"\",Liste_list!E89,\"\")","v":""},{"$f":"IF(Liste_list!G89<>\"\",Liste_list!G89,\"\")","v":""},{"$f":"IF(Liste_list!H89<>\"\",Liste_list!H89,\"\")","v":""},{"$f":"IF(Liste_list!I89<>\"\",Liste_list!I89,\"\")","v":""}]
[{"$f":"IF(Liste_list!C90<>\"\",Liste_list!C90,\"\")","v":""},{"$f":"IF(Liste_list!D90<>\"\",Liste_list!D90,\"\")","v":""},{"$f":"IF(Liste_list!E90<>\"\",Liste_list!E90,\"\")","v":""},{"$f":"IF(Liste_list!G90<>\"\",Liste_list!G90,\"\")","v":""},{"$f":"IF(Liste_list!H90<>\"\",Liste_list!H90,\"\")","v":""},{"$f":"IF(Liste_list!I90<>\"\",Liste_list!I90,\"\")","v":""}]
[{"$f":"IF(Liste_list!C91<>\"\",Liste_list!C91,\"\")","v":""},{"$f":"IF(Liste_list!D91<>\"\",Liste_list!D91,\"\")","v":""},{"$f":"IF(Liste_list!E91<>\"\",Liste_list!E91,\"\")","v":""},{"$f":"IF(Liste_list!G91<>\"\",Liste_list!G91,\"\")","v":""},{"$f":"IF(Liste_list!H91<>\"\",Liste_list!H91,\"\")","v":""},{"$f":"IF(Liste_list!I91<>\"\",Liste_list!I91,\"\")","v":""}]
[{"$f":"IF(Liste_list!C92<>\"\",Liste_list!C92,\"\")","v":""},{"$f":"IF(Liste_list!D92<>\"\",Liste_list!D92,\"\")","v":""},{"$f":"IF(Liste_list!E92<>\"\",Liste_list!E92,\"\")","v":""},{"$f":"IF(Liste_list!G92<>\"\",Liste_list!G92,\"\")","v":""},{"$f":"IF(Liste_list!H92<>\"\",Liste_list!H92,\"\")","v":""},{"$f":"IF(Liste_list!I92<>\"\",Liste_list!I92,\"\")","v":""}]
[{"$f":"IF(Liste_list!C93<>\"\",Liste_list!C93,\"\")","v":""},{"$f":"IF(Liste_list!D93<>\"\",Liste_list!D93,\"\")","v":""},{"$f":"IF(Liste_list!E93<>\"\",Liste_list!E93,\"\")","v":""},{"$f":"IF(Liste_list!G93<>\"\",Liste_list!G93,\"\")","v":""},{"$f":"IF(Liste_list!H93<>\"\",Liste_list!H93,\"\")","v":""},{"$f":"IF(Liste_list!I93<>\"\",Liste_list!I93,\"\")","v":""}]
[{"$f":"IF(Liste_list!C94<>\"\",Liste_list!C94,\"\")","v":""},{"$f":"IF(Liste_list!D94<>\"\",Liste_list!D94,\"\")","v":""},{"$f":"IF(Liste_list!E94<>\"\",Liste_list!E94,\"\")","v":""},{"$f":"IF(Liste_list!G94<>\"\",Liste_list!G94,\"\")","v":""},{"$f":"IF(Liste_list!H94<>\"\",Liste_list!H94,\"\")","v":""},{"$f":"IF(Liste_list!I94<>\"\",Liste_list!I94,\"\")","v":""}]
[{"$f":"IF(Liste_list!C95<>\"\",Liste_list!C95,\"\")","v":""},{"$f":"IF(Liste_list!D95<>\"\",Liste_list!D95,\"\")","v":""},{"$f":"IF(Liste_list!E95<>\"\",Liste_list!E95,\"\")","v":""},{"$f":"IF(Liste_list!G95<>\"\",Liste_list!G95,\"\")","v":""},{"$f":"IF(Liste_list!H95<>\"\",Liste_list!H95,\"\")","v":""},{"$f":"IF(Liste_list!I95<>\"\",Liste_list!I95,\"\")","v":""}]
[{"$f":"IF(Liste_list!C96<>\"\",Liste_list!C96,\"\")","v":""},{"$f":"IF(Liste_list!D96<>\"\",Liste_list!D96,\"\")","v":""},{"$f":"IF(Liste_list!E96<>\"\",Liste_list!E96,\"\")","v":""},{"$f":"IF(Liste_list!G96<>\"\",Liste_list!G96,\"\")","v":""},{"$f":"IF(Liste_list!H96<>\"\",Liste_list!H96,\"\")","v":""},{"$f":"IF(Liste_list!I96<>\"\",Liste_list!I96,\"\")","v":""}]
[{"$f":"IF(Liste_list!C97<>\"\",Liste_list!C97,\"\")","v":""},{"$f":"IF(Liste_list!D97<>\"\",Liste_list!D97,\"\")","v":""},{"$f":"IF(Liste_list!E97<>\"\",Liste_list!E97,\"\")","v":""},{"$f":"IF(Liste_list!G97<>\"\",Liste_list!G97,\"\")","v":""},{"$f":"IF(Liste_list!H97<>\"\",Liste_list!H97,\"\")","v":""},{"$f":"IF(Liste_list!I97<>\"\",Liste_list!I97,\"\")","v":""}]
[{"$f":"IF(Liste_list!C98<>\"\",Liste_list!C98,\"\")","v":""},{"$f":"IF(Liste_list!D98<>\"\",Liste_list!D98,\"\")","v":""},{"$f":"IF(Liste_list!E98<>\"\",Liste_list!E98,\"\")","v":""},{"$f":"IF(Liste_list!G98<>\"\",Liste_list!G98,\"\")","v":""},{"$f":"IF(Liste_list!H98<>\"\",Liste_list!H98,\"\")","v":""},{"$f":"IF(Liste_list!I98<>\"\",Liste_list!I98,\"\")","v":""}]
[{"$f":"IF(Liste_list!C99<>\"\",Liste_list!C99,\"\")","v":""},{"$f":"IF(Liste_list!D99<>\"\",Liste_list!D99,\"\")","v":""},{"$f":"IF(Liste_list!E99<>\"\",Liste_list!E99,\"\")","v":""},{"$f":"IF(Liste_list!G99<>\"\",Liste_list!G99,\"\")","v":""},{"$f":"IF(Liste_list!H99<>\"\",Liste_list!H99,\"\")","v":""},{"$f":"IF(Liste_list!I99<>\"\",Liste_list!I99,\"\")","v":""}]
[{"$f":"IF(Liste_list!C100<>\"\",Liste_list!C100,\"\")","v":""},{"$f":"IF(Liste_list!D100<>\"\",Liste_list!D100,\"\")","v":""},{"$f":"IF(Liste_list!E100<>\"\",Liste_list!E100,\"\")","v":""},{"$f":"IF(Liste_list!G100<>\"\",Liste_list!G100,\"\")","v":""},{"$f":"IF(Liste_list!H100<>\"\",Liste_list!H100,\"\")","v":""},{"$f":"IF(Liste_list!I100<>\"\",Liste_list!I100,\"\")","v":""}]
[{"$f":"IF(Liste_list!C101<>\"\",Liste_list!C101,\"\")","v":""},{"$f":"IF(Liste_list!D101<>\"\",Liste_list!D101,\"\")","v":""},{"$f":"IF(Liste_list!E101<>\"\",Liste_list!E101,\"\")","v":""},{"$f":"IF(Liste_list!G101<>\"\",Liste_list!G101,\"\")","v":""},{"$f":"IF(Liste_list!H101<>\"\",Liste_list!H101,\"\")","v":""},{"$f":"IF(Liste_list!I101<>\"\",Liste_list!I101,\"\")","v":""}]
[{"$f":"IF(Liste_list!C102<>\"\",Liste_list!C102,\"\")","v":""},{"$f":"IF(Liste_list!D102<>\"\",Liste_list!D102,\"\")","v":""},{"$f":"IF(Liste_list!E102<>\"\",Liste_list!E102,\"\")","v":""},{"$f":"IF(Liste_list!G102<>\"\",Liste_list!G102,\"\")","v":""},{"$f":"IF(Liste_list!H102<>\"\",Liste_list!H102,\"\")","v":""},{"$f":"IF(Liste_list!I102<>\"\",Liste_list!I102,\"\")","v":""}]
[{"$f":"IF(Liste_list!C103<>\"\",Liste_list!C103,\"\")","v":""},{"$f":"IF(Liste_list!D103<>\"\",Liste_list!D103,\"\")","v":""},{"$f":"IF(Liste_list!E103<>\"\",Liste_list!E103,\"\")","v":""},{"$f":"IF(Liste_list!G103<>\"\",Liste_list!G103,\"\")","v":""},{"$f":"IF(Liste_list!H103<>\"\",Liste_list!H103,\"\")","v":""},{"$f":"IF(Liste_list!I103<>\"\",Liste_list!I103,\"\")","v":""}]
[{"$f":"IF(Liste_list!C104<>\"\",Liste_list!C104,\"\")","v":""},{"$f":"IF(Liste_list!D104<>\"\",Liste_list!D104,\"\")","v":""},{"$f":"IF(Liste_list!E104<>\"\",Liste_list!E104,\"\")","v":""},{"$f":"IF(Liste_list!G104<>\"\",Liste_list!G104,\"\")","v":""},{"$f":"IF(Liste_list!H104<>\"\",Liste_list!H104,\"\")","v":""},{"$f":"IF(Liste_list!I104<>\"\",Liste_list!I104,\"\")","v":""}]